BEGIN:VCALENDAR
VERSION:2.0
PRODID:-//Fairhaven United Reformed Church - The White Church - ECPv6.15.20//NONSGML v1.0//EN
CALSCALE:GREGORIAN
METHOD:PUBLISH
X-WR-CALNAME:Fairhaven United Reformed Church - The White Church
X-ORIGINAL-URL:https://fairhavenurc.org.uk
X-WR-CALDESC:Events for Fairhaven United Reformed Church - The White Church
REFRESH-INTERVAL;VALUE=DURATION:PT1H
X-Robots-Tag:noindex
X-PUBLISHED-TTL:PT1H
BEGIN:VTIMEZONE
TZID:Europe/London
BEGIN:DAYLIGHT
TZOFFSETFROM:+0000
TZOFFSETTO:+0100
TZNAME:BST
DTSTART:20240331T010000
END:DAYLIGHT
BEGIN:STANDARD
TZOFFSETFROM:+0100
TZOFFSETTO:+0000
TZNAME:GMT
DTSTART:20241027T010000
END:STANDARD
BEGIN:DAYLIGHT
TZOFFSETFROM:+0000
TZOFFSETTO:+0100
TZNAME:BST
DTSTART:20250330T010000
END:DAYLIGHT
BEGIN:STANDARD
TZOFFSETFROM:+0100
TZOFFSETTO:+0000
TZNAME:GMT
DTSTART:20251026T010000
END:STANDARD
BEGIN:DAYLIGHT
TZOFFSETFROM:+0000
TZOFFSETTO:+0100
TZNAME:BST
DTSTART:20260329T010000
END:DAYLIGHT
BEGIN:STANDARD
TZOFFSETFROM:+0100
TZOFFSETTO:+0000
TZNAME:GMT
DTSTART:20261025T010000
END:STANDARD
END:VTIMEZONE
BEGIN:VEVENT
DTSTART;TZID=Europe/London:20250810T104500
DTEND;TZID=Europe/London:20250810T120000
DTSTAMP:20260421T212739
CREATED:20250726T115654Z
LAST-MODIFIED:20250726T115654Z
UID:11667-1754822700-1754827200@fairhavenurc.org.uk
SUMMARY:Sunday Morning Worship
DESCRIPTION:This service will be led by Ron Povey. All welcome.
URL:https://fairhavenurc.org.uk/event/sunday-morning-worship-46/
LOCATION:Fairhaven United Reformed Church\, 22A Clifton Drive\, Lytham St Annes
CATEGORIES:Church Events
ATTACH;FMTTYPE=image/jpeg:https://fairhavenurc.org.uk/wp-content/uploads/2025/04/thumbnail_IMG_6561-1.jpg
END:VEVENT
BEGIN:VEVENT
DTSTART;TZID=Europe/London:20250803T104500
DTEND;TZID=Europe/London:20250803T120000
DTSTAMP:20260421T212739
CREATED:20250711T154214Z
LAST-MODIFIED:20250711T154214Z
UID:11658-1754217900-1754222400@fairhavenurc.org.uk
SUMMARY:Sunday Morning Worship
DESCRIPTION:This service will be led by Revd Dr Peter Colwell and will include communion. All welcome.
URL:https://fairhavenurc.org.uk/event/sunday-morning-worship-45/
LOCATION:Fairhaven United Reformed Church\, 22A Clifton Drive\, Lytham St Annes
CATEGORIES:Church Events
ATTACH;FMTTYPE=image/jpeg:https://fairhavenurc.org.uk/wp-content/uploads/2025/04/thumbnail_IMG_6561-1.jpg
END:VEVENT
BEGIN:VEVENT
DTSTART;TZID=Europe/London:20250727T104500
DTEND;TZID=Europe/London:20250727T120000
DTSTAMP:20260421T212739
CREATED:20250704T143327Z
LAST-MODIFIED:20250704T143327Z
UID:11649-1753613100-1753617600@fairhavenurc.org.uk
SUMMARY:Sunday Morning Worship
DESCRIPTION:This service will be led by Linda Lunn. All welcome.
URL:https://fairhavenurc.org.uk/event/sunday-morning-worship-44/
LOCATION:Fairhaven United Reformed Church\, 22A Clifton Drive\, Lytham St Annes
CATEGORIES:Church Events
ATTACH;FMTTYPE=image/jpeg:https://fairhavenurc.org.uk/wp-content/uploads/2025/04/thumbnail_IMG_6561-1.jpg
END:VEVENT
BEGIN:VEVENT
DTSTART;TZID=Europe/London:20250720T104500
DTEND;TZID=Europe/London:20250720T120000
DTSTAMP:20260421T212739
CREATED:20250704T143147Z
LAST-MODIFIED:20250704T143147Z
UID:11647-1753008300-1753012800@fairhavenurc.org.uk
SUMMARY:Sunday Morning Worship
DESCRIPTION:This service will be led by Pastor David Grimshaw. All welcome
URL:https://fairhavenurc.org.uk/event/sunday-morning-worship-43/
LOCATION:Fairhaven United Reformed Church\, 22A Clifton Drive\, Lytham St Annes
CATEGORIES:Church Events
ATTACH;FMTTYPE=image/jpeg:https://fairhavenurc.org.uk/wp-content/uploads/2025/04/thumbnail_IMG_6561-1.jpg
END:VEVENT
BEGIN:VEVENT
DTSTART;TZID=Europe/London:20250719T140000
DTEND;TZID=Europe/London:20250719T160000
DTSTAMP:20260421T212739
CREATED:20250705T084540Z
LAST-MODIFIED:20250705T084540Z
UID:11653-1752933600-1752940800@fairhavenurc.org.uk
SUMMARY:Garden Party
DESCRIPTION:This social event will also involve friends from Fairhaven Methodist church and St Annes URC \nTickets are £10 and should be bought in advance at coffee morning or after Sunday service. This will allow you to receive a boxed afternoon tea. \nYou are also welcome to come along without a ticket and visit the stalls and enjoy the music provided by David Windle on the keyboard.
URL:https://fairhavenurc.org.uk/event/garden-party/
LOCATION:Fairhaven United Reformed Church\, 22A Clifton Drive\, Lytham St Annes
CATEGORIES:Church Events
ATTACH;FMTTYPE=image/jpeg:https://fairhavenurc.org.uk/wp-content/uploads/2025/07/thumbnail_IMG-0499.jpg
END:VEVENT
BEGIN:VEVENT
DTSTART;TZID=Europe/London:20250713T104500
DTEND;TZID=Europe/London:20250713T120000
DTSTAMP:20260421T212739
CREATED:20250620T135006Z
LAST-MODIFIED:20250620T135006Z
UID:11642-1752403500-1752408000@fairhavenurc.org.uk
SUMMARY:Sunday Morning Worship 13th July 2025
DESCRIPTION:This service will be led by Rev Daleen Ten Cate \nAll welcome
URL:https://fairhavenurc.org.uk/event/sunday-morning-worship-13th-july-2025/
LOCATION:Fairhaven United Reformed Church\, 22A Clifton Drive\, Lytham St Annes
CATEGORIES:Church Events
ATTACH;FMTTYPE=image/jpeg:https://fairhavenurc.org.uk/wp-content/uploads/2025/04/thumbnail_IMG_6561-1.jpg
END:VEVENT
BEGIN:VEVENT
DTSTART;TZID=Europe/London:20250710T140000
DTEND;TZID=Europe/London:20250710T160000
DTSTAMP:20260421T212739
CREATED:20250705T084911Z
LAST-MODIFIED:20250705T084911Z
UID:11656-1752156000-1752163200@fairhavenurc.org.uk
SUMMARY:Sing a Long
DESCRIPTION:This is a free event and features the fabulous David Windle on the keyboard. All welcome.
URL:https://fairhavenurc.org.uk/event/sing-a-long/
LOCATION:Dawson Hall at the White Church
CATEGORIES:Church Events
ATTACH;FMTTYPE=image/jpeg:https://fairhavenurc.org.uk/wp-content/uploads/2025/04/thumbnail_IMG_7590.jpg
END:VEVENT
BEGIN:VEVENT
DTSTART;TZID=Europe/London:20250706T104500
DTEND;TZID=Europe/London:20250706T120000
DTSTAMP:20260421T212739
CREATED:20250613T150055Z
LAST-MODIFIED:20250613T150055Z
UID:11634-1751798700-1751803200@fairhavenurc.org.uk
SUMMARY:Sunday Morning Worship
DESCRIPTION:This service will be led by Eileen Garfitt and will include Communion. All welcome.
URL:https://fairhavenurc.org.uk/event/sunday-morning-worship-42/
LOCATION:Fairhaven United Reformed Church\, 22A Clifton Drive\, Lytham St Annes
CATEGORIES:Church Events
ATTACH;FMTTYPE=image/jpeg:https://fairhavenurc.org.uk/wp-content/uploads/2025/04/thumbnail_IMG_6561-1.jpg
END:VEVENT
BEGIN:VEVENT
DTSTART;TZID=Europe/London:20250629T104500
DTEND;TZID=Europe/London:20250629T120000
DTSTAMP:20260421T212739
CREATED:20250613T145902Z
LAST-MODIFIED:20250613T145902Z
UID:11632-1751193900-1751198400@fairhavenurc.org.uk
SUMMARY:Sunday Morning Worship
DESCRIPTION:This service will be led by Stuart Gay. All welcome.
URL:https://fairhavenurc.org.uk/event/sunday-morning-worship-41/
LOCATION:Fairhaven United Reformed Church\, 22A Clifton Drive\, Lytham St Annes
CATEGORIES:Church Events
ATTACH;FMTTYPE=image/jpeg:https://fairhavenurc.org.uk/wp-content/uploads/2025/04/thumbnail_IMG_6561-1.jpg
END:VEVENT
BEGIN:VEVENT
DTSTART;TZID=Europe/London:20250622T104500
DTEND;TZID=Europe/London:20250622T120000
DTSTAMP:20260421T212739
CREATED:20250530T140924Z
LAST-MODIFIED:20250530T140924Z
UID:11627-1750589100-1750593600@fairhavenurc.org.uk
SUMMARY:Sunday Morning Worship
DESCRIPTION:This service will be led by Margaret Russell. All welcome.
URL:https://fairhavenurc.org.uk/event/sunday-morning-worship-40/
LOCATION:Fairhaven United Reformed Church\, 22A Clifton Drive\, Lytham St Annes
CATEGORIES:Church Events
ATTACH;FMTTYPE=image/jpeg:https://fairhavenurc.org.uk/wp-content/uploads/2025/04/thumbnail_IMG_6561-1.jpg
END:VEVENT
BEGIN:VEVENT
DTSTART;TZID=Europe/London:20250615T104500
DTEND;TZID=Europe/London:20250615T120000
DTSTAMP:20260421T212739
CREATED:20250523T140040Z
LAST-MODIFIED:20250523T140040Z
UID:11622-1749984300-1749988800@fairhavenurc.org.uk
SUMMARY:Sunday Morning Worship
DESCRIPTION:This service will be led by Rev Jim Williams. All welcome.
URL:https://fairhavenurc.org.uk/event/sunday-morning-worship-39/
LOCATION:Fairhaven United Reformed Church\, 22A Clifton Drive\, Lytham St Annes
CATEGORIES:Church Events
ATTACH;FMTTYPE=image/jpeg:https://fairhavenurc.org.uk/wp-content/uploads/2025/04/thumbnail_IMG_6561-1.jpg
END:VEVENT
BEGIN:VEVENT
DTSTART;TZID=Europe/London:20250614T100000
DTEND;TZID=Europe/London:20250614T140000
DTSTAMP:20260421T212739
CREATED:20250516T155520Z
LAST-MODIFIED:20250516T155520Z
UID:11617-1749895200-1749909600@fairhavenurc.org.uk
SUMMARY:Table Top Sale
DESCRIPTION:Table top sale with refreshments available. Come and grab a bargain. All welcome. \nSorry – no tables available to rent.
URL:https://fairhavenurc.org.uk/event/table-top-sale-4/
LOCATION:Dawson Hall at the White Church
CATEGORIES:Church Events
ATTACH;FMTTYPE=image/jpeg:https://fairhavenurc.org.uk/wp-content/uploads/2023/03/OIP-21.jpg
END:VEVENT
BEGIN:VEVENT
DTSTART;TZID=Europe/London:20250612T140000
DTEND;TZID=Europe/London:20250612T160000
DTSTAMP:20260421T212739
CREATED:20250516T155216Z
LAST-MODIFIED:20250516T155216Z
UID:11614-1749736800-1749744000@fairhavenurc.org.uk
SUMMARY:Sing-a-Long with David Windle
DESCRIPTION:Come and join us for this free event in the Church hall with David Windle at the keyboard. Refreshments served and all welcome.
URL:https://fairhavenurc.org.uk/event/sing-a-long-with-david-windle-11/
LOCATION:Dawson Hall at the White Church
CATEGORIES:Church Events
ATTACH;FMTTYPE=image/jpeg:https://fairhavenurc.org.uk/wp-content/uploads/2025/05/thumbnail_IMG_7591.jpg
END:VEVENT
BEGIN:VEVENT
DTSTART;TZID=Europe/London:20250608T104500
DTEND;TZID=Europe/London:20250608T120000
DTSTAMP:20260421T212739
CREATED:20250516T154725Z
LAST-MODIFIED:20250516T154725Z
UID:11612-1749379500-1749384000@fairhavenurc.org.uk
SUMMARY:Sunday Morning Worship
DESCRIPTION:This service will be led by Andrew Barratt. All welcome.
URL:https://fairhavenurc.org.uk/event/sunday-morning-worship-38/
LOCATION:Fairhaven United Reformed Church\, 22A Clifton Drive\, Lytham St Annes
CATEGORIES:Church Events
ATTACH;FMTTYPE=image/jpeg:https://fairhavenurc.org.uk/wp-content/uploads/2025/04/thumbnail_IMG_6561-1.jpg
END:VEVENT
END:VCALENDAR