BEGIN:VCALENDAR
VERSION:2.0
PRODID:-//Fairhaven United Reformed Church - The White Church - ECPv6.15.20//NONSGML v1.0//EN
CALSCALE:GREGORIAN
METHOD:PUBLISH
X-WR-CALNAME:Fairhaven United Reformed Church - The White Church
X-ORIGINAL-URL:https://fairhavenurc.org.uk
X-WR-CALDESC:Events for Fairhaven United Reformed Church - The White Church
REFRESH-INTERVAL;VALUE=DURATION:PT1H
X-Robots-Tag:noindex
X-PUBLISHED-TTL:PT1H
BEGIN:VTIMEZONE
TZID:Europe/London
BEGIN:DAYLIGHT
TZOFFSETFROM:+0000
TZOFFSETTO:+0100
TZNAME:BST
DTSTART:20240331T010000
END:DAYLIGHT
BEGIN:STANDARD
TZOFFSETFROM:+0100
TZOFFSETTO:+0000
TZNAME:GMT
DTSTART:20241027T010000
END:STANDARD
BEGIN:DAYLIGHT
TZOFFSETFROM:+0000
TZOFFSETTO:+0100
TZNAME:BST
DTSTART:20250330T010000
END:DAYLIGHT
BEGIN:STANDARD
TZOFFSETFROM:+0100
TZOFFSETTO:+0000
TZNAME:GMT
DTSTART:20251026T010000
END:STANDARD
BEGIN:DAYLIGHT
TZOFFSETFROM:+0000
TZOFFSETTO:+0100
TZNAME:BST
DTSTART:20260329T010000
END:DAYLIGHT
BEGIN:STANDARD
TZOFFSETFROM:+0100
TZOFFSETTO:+0000
TZNAME:GMT
DTSTART:20261025T010000
END:STANDARD
BEGIN:DAYLIGHT
TZOFFSETFROM:+0000
TZOFFSETTO:+0100
TZNAME:BST
DTSTART:20270328T010000
END:DAYLIGHT
BEGIN:STANDARD
TZOFFSETFROM:+0100
TZOFFSETTO:+0000
TZNAME:GMT
DTSTART:20271031T010000
END:STANDARD
END:VTIMEZONE
BEGIN:VEVENT
DTSTART;TZID=Europe/London:20260321T100000
DTEND;TZID=Europe/London:20260321T153000
DTSTAMP:20260420T220453
CREATED:20260208T153304Z
LAST-MODIFIED:20260208T153304Z
UID:11796-1774087200-1774107000@fairhavenurc.org.uk
SUMMARY:Partnership Away Day
DESCRIPTION:The theme of this away day is “Music Ministry”. \nPlease bring a packed lunch. Tea and coffee available.
URL:https://fairhavenurc.org.uk/event/partnership-away-day/
LOCATION:St Annes United Reformed Church\, St. George's Road\, Lytham St Annes\, Lancashire\, FY8 2AE\, United Kingdom
CATEGORIES:Church Events
ATTACH;FMTTYPE=image/jpeg:https://fairhavenurc.org.uk/wp-content/uploads/2025/02/R.jpg
END:VEVENT
BEGIN:VEVENT
DTSTART;TZID=Europe/London:20260312T140000
DTEND;TZID=Europe/London:20260312T160000
DTSTAMP:20260420T220453
CREATED:20260207T123640Z
LAST-MODIFIED:20260207T123640Z
UID:11788-1773324000-1773331200@fairhavenurc.org.uk
SUMMARY:Sing a Long with David Windle
DESCRIPTION:This is a free event with refreshments served. All welcome. Featuring David Windle on the keyboard playing music with an Irish and Welsh flavour.
URL:https://fairhavenurc.org.uk/event/sing-a-long-with-david-windle-3/
LOCATION:Dawson Hall at the White Church
CATEGORIES:Church Events
ATTACH;FMTTYPE=image/jpeg:https://fairhavenurc.org.uk/wp-content/uploads/2025/04/thumbnail_IMG_7590.jpg
END:VEVENT
BEGIN:VEVENT
DTSTART;TZID=Europe/London:20260308T104500
DTEND;TZID=Europe/London:20260308T120000
DTSTAMP:20260420T220453
CREATED:20260213T102834Z
LAST-MODIFIED:20260213T102834Z
UID:11798-1772966700-1772971200@fairhavenurc.org.uk
SUMMARY:Sunday Morning Worship
DESCRIPTION:This service will be led by Jennifer Liddell. Everyone welcome.
URL:https://fairhavenurc.org.uk/event/sunday-morning-worship-19/
LOCATION:Fairhaven United Reformed Church\, 22A Clifton Drive\, Lytham St Annes
CATEGORIES:Church Events
ATTACH;FMTTYPE=image/jpeg:https://fairhavenurc.org.uk/wp-content/uploads/2025/04/thumbnail_IMG_6663-1-scaled.jpg
END:VEVENT
BEGIN:VEVENT
DTSTART;TZID=Europe/London:20260306T140000
DTEND;TZID=Europe/London:20260306T150000
DTSTAMP:20260420T220453
CREATED:20260207T124112Z
LAST-MODIFIED:20260207T124112Z
UID:11790-1772805600-1772809200@fairhavenurc.org.uk
SUMMARY:World Day of Prayer
DESCRIPTION:All welcome at this ecumenical event at Our Lady Star of the Sea Parish Centre on St Albans Road. Women from Nigeria have compiled the Service.
URL:https://fairhavenurc.org.uk/event/world-day-of-prayer/
LOCATION:Our Lady Star of the Sea Parish Centre\, FY8 1LB
CATEGORIES:Church Events
ATTACH;FMTTYPE=image/jpeg:https://fairhavenurc.org.uk/wp-content/uploads/2024/11/434627068_1132888404508119_4940039377718144238_n.jpg
END:VEVENT
BEGIN:VEVENT
DTSTART;TZID=Europe/London:20260301T104500
DTEND;TZID=Europe/London:20260301T120000
DTSTAMP:20260420T220453
CREATED:20260207T123323Z
LAST-MODIFIED:20260207T123323Z
UID:11786-1772361900-1772366400@fairhavenurc.org.uk
SUMMARY:Sunday Morning Worship
DESCRIPTION:This service will be led by Pastor David Grimshaw and will include communion. All welcome.
URL:https://fairhavenurc.org.uk/event/sunday-morning-worship-18/
LOCATION:Fairhaven United Reformed Church\, 22A Clifton Drive\, Lytham St Annes
CATEGORIES:Church Events
ATTACH;FMTTYPE=image/jpeg:https://fairhavenurc.org.uk/wp-content/uploads/2025/04/thumbnail_IMG_6663-1-scaled.jpg
END:VEVENT
BEGIN:VEVENT
DTSTART;TZID=Europe/London:20260222T104500
DTEND;TZID=Europe/London:20260222T120000
DTSTAMP:20260420T220453
CREATED:20260130T114451Z
LAST-MODIFIED:20260130T114451Z
UID:11782-1771757100-1771761600@fairhavenurc.org.uk
SUMMARY:Sunday Morning Worship
DESCRIPTION:This service will be led by Andrew Barratt. All welcome
URL:https://fairhavenurc.org.uk/event/sunday-morning-worship-17/
LOCATION:Fairhaven United Reformed Church\, 22A Clifton Drive\, Lytham St Annes
CATEGORIES:Church Events
ATTACH;FMTTYPE=image/jpeg:https://fairhavenurc.org.uk/wp-content/uploads/2025/05/thumbnail_IMG_6663-scaled.jpg
END:VEVENT
BEGIN:VEVENT
DTSTART;TZID=Europe/London:20260215T104500
DTEND;TZID=Europe/London:20260215T120000
DTSTAMP:20260420T220453
CREATED:20260227T140501Z
LAST-MODIFIED:20260227T140501Z
UID:11800-1771152300-1771156800@fairhavenurc.org.uk
SUMMARY:Sunday Morning Worship
DESCRIPTION:This service will be led by Elizabeth Fleming. All welcome.
URL:https://fairhavenurc.org.uk/event/sunday-morning-worship-20/
LOCATION:Fairhaven United Reformed Church\, 22A Clifton Drive\, Lytham St Annes
CATEGORIES:Church Events
ATTACH;FMTTYPE=image/jpeg:https://fairhavenurc.org.uk/wp-content/uploads/2025/04/thumbnail_IMG_6663-1-scaled.jpg
END:VEVENT
BEGIN:VEVENT
DTSTART;TZID=Europe/London:20260215T104500
DTEND;TZID=Europe/London:20260215T120000
DTSTAMP:20260420T220453
CREATED:20260130T114321Z
LAST-MODIFIED:20260130T114321Z
UID:11780-1771152300-1771156800@fairhavenurc.org.uk
SUMMARY:Sunday Morning Worship
DESCRIPTION:This service will be led by Stuart Gay. Everyone welcome.
URL:https://fairhavenurc.org.uk/event/sunday-morning-worship-16/
LOCATION:Fairhaven United Reformed Church\, 22A Clifton Drive\, Lytham St Annes
CATEGORIES:Church Events
ATTACH;FMTTYPE=image/jpeg:https://fairhavenurc.org.uk/wp-content/uploads/2025/04/thumbnail_IMG_6663-1-scaled.jpg
END:VEVENT
BEGIN:VEVENT
DTSTART;TZID=Europe/London:20260212T140000
DTEND;TZID=Europe/London:20260212T160000
DTSTAMP:20260420T220453
CREATED:20260130T114639Z
LAST-MODIFIED:20260130T114639Z
UID:11784-1770904800-1770912000@fairhavenurc.org.uk
SUMMARY:Sing a long with David Windle
DESCRIPTION:This is a free event with refreshments served. All welcome.
URL:https://fairhavenurc.org.uk/event/sing-a-long-with-david-windle-2/
LOCATION:Dawson Hall at the White Church
CATEGORIES:Church Events
ATTACH;FMTTYPE=image/jpeg:https://fairhavenurc.org.uk/wp-content/uploads/2025/05/thumbnail_IMG_7591.jpg
END:VEVENT
BEGIN:VEVENT
DTSTART;TZID=Europe/London:20260208T104500
DTEND;TZID=Europe/London:20260208T120000
DTSTAMP:20260420T220453
CREATED:20260116T141942Z
LAST-MODIFIED:20260116T141942Z
UID:11778-1770547500-1770552000@fairhavenurc.org.uk
SUMMARY:Sunday Morning Worship
DESCRIPTION:This service will be led by Lesley Smith. All welcome.
URL:https://fairhavenurc.org.uk/event/sunday-morning-worship-15/
LOCATION:Fairhaven United Reformed Church\, 22A Clifton Drive\, Lytham St Annes
CATEGORIES:Church Events
ATTACH;FMTTYPE=image/jpeg:https://fairhavenurc.org.uk/wp-content/uploads/2025/05/thumbnail_IMG_6663-scaled.jpg
END:VEVENT
BEGIN:VEVENT
DTSTART;TZID=Europe/London:20260201T104500
DTEND;TZID=Europe/London:20260201T120000
DTSTAMP:20260420T220453
CREATED:20260111T114603Z
LAST-MODIFIED:20260111T114603Z
UID:11776-1769942700-1769947200@fairhavenurc.org.uk
SUMMARY:Sunday Morning Worship
DESCRIPTION:This service will be led by Linda Lunn and Janice Downward and will include Communion. All welcome.
URL:https://fairhavenurc.org.uk/event/sunday-morning-worship-14/
LOCATION:Fairhaven United Reformed Church\, 22A Clifton Drive\, Lytham St Annes
CATEGORIES:Church Events
ATTACH;FMTTYPE=image/jpeg:https://fairhavenurc.org.uk/wp-content/uploads/2025/05/thumbnail_IMG_6663-scaled.jpg
END:VEVENT
BEGIN:VEVENT
DTSTART;TZID=Europe/London:20260125T104500
DTEND;TZID=Europe/London:20260125T120000
DTSTAMP:20260420T220453
CREATED:20260111T114351Z
LAST-MODIFIED:20260111T114351Z
UID:11774-1769337900-1769342400@fairhavenurc.org.uk
SUMMARY:Joint service at St Annes with St Annes URC
DESCRIPTION:This service will be at St Annes URC and led by Rev Jim Williams. \nNo service at the White Church on this Sunday.
URL:https://fairhavenurc.org.uk/event/joint-service-at-st-annes-with-st-annes-urc/
LOCATION:St Annes United Reformed Church\, St. George's Road\, Lytham St Annes\, Lancashire\, FY8 2AE\, United Kingdom
CATEGORIES:Church Events
ATTACH;FMTTYPE=image/jpeg:https://fairhavenurc.org.uk/wp-content/uploads/2025/02/R.jpg
END:VEVENT
BEGIN:VEVENT
DTSTART;TZID=Europe/London:20260118T104500
DTEND;TZID=Europe/London:20260118T120000
DTSTAMP:20260420T220453
CREATED:20260103T141309Z
LAST-MODIFIED:20260103T141309Z
UID:11770-1768733100-1768737600@fairhavenurc.org.uk
SUMMARY:Sunday Morning Worship
DESCRIPTION:This Service will be led by Pastor David Grimshaw. All welcome.
URL:https://fairhavenurc.org.uk/event/sunday-morning-worship-13/
LOCATION:Fairhaven United Reformed Church\, 22A Clifton Drive\, Lytham St Annes
CATEGORIES:Church Events
ATTACH;FMTTYPE=image/jpeg:https://fairhavenurc.org.uk/wp-content/uploads/2025/04/thumbnail_IMG_6561-1.jpg
END:VEVENT
BEGIN:VEVENT
DTSTART;TZID=Europe/London:20260111T104500
DTEND;TZID=Europe/London:20260111T120000
DTSTAMP:20260420T220453
CREATED:20260103T140905Z
LAST-MODIFIED:20260103T140905Z
UID:11766-1768128300-1768132800@fairhavenurc.org.uk
SUMMARY:Sunday Morning Worship
DESCRIPTION:This Service will be led by Jennifer Liddell. All welcome
URL:https://fairhavenurc.org.uk/event/sunday-morning-worship-11/
LOCATION:Fairhaven United Reformed Church\, 22A Clifton Drive\, Lytham St Annes
CATEGORIES:Church Events
ATTACH;FMTTYPE=image/jpeg:https://fairhavenurc.org.uk/wp-content/uploads/2025/04/thumbnail_IMG_6561-1.jpg
END:VEVENT
BEGIN:VEVENT
DTSTART;TZID=Europe/London:20260108T140000
DTEND;TZID=Europe/London:20260108T160000
DTSTAMP:20260420T220453
CREATED:20260103T141547Z
LAST-MODIFIED:20260103T141547Z
UID:11772-1767880800-1767888000@fairhavenurc.org.uk
SUMMARY:Sing a Long free event
DESCRIPTION:All welcome to come and sing along with David Windle on the keyboard. Free event with refreshments available.
URL:https://fairhavenurc.org.uk/event/sing-a-long-free-event/
LOCATION:Dawson Hall at the White Church
CATEGORIES:Church Events
ATTACH;FMTTYPE=image/jpeg:https://fairhavenurc.org.uk/wp-content/uploads/2025/05/thumbnail_IMG_7591.jpg
END:VEVENT
BEGIN:VEVENT
DTSTART;TZID=Europe/London:20260104T104500
DTEND;TZID=Europe/London:20260104T120000
DTSTAMP:20260420T220453
CREATED:20260103T140656Z
LAST-MODIFIED:20260103T140656Z
UID:11764-1767523500-1767528000@fairhavenurc.org.uk
SUMMARY:Sunday Morning Worship
DESCRIPTION:This service will be led by Val Atkinson and will include Communion. All welcome
URL:https://fairhavenurc.org.uk/event/sunday-morning-worship-10/
LOCATION:Fairhaven United Reformed Church\, 22A Clifton Drive\, Lytham St Annes
CATEGORIES:Church Events
ATTACH;FMTTYPE=image/jpeg:https://fairhavenurc.org.uk/wp-content/uploads/2025/04/thumbnail_IMG_6561-1.jpg
END:VEVENT
BEGIN:VEVENT
DTSTART;TZID=Europe/London:20251225T103000
DTEND;TZID=Europe/London:20251228T113000
DTSTAMP:20260420T220453
CREATED:20251205T114846Z
LAST-MODIFIED:20251205T114846Z
UID:11762-1766658600-1766921400@fairhavenurc.org.uk
SUMMARY:Christmas Morning Worship
DESCRIPTION:All welcome at this short Service on Christmas morning. Come and celebrate the birth of Jesus. \n10.30 am start.
URL:https://fairhavenurc.org.uk/event/christmas-morning-worship/
LOCATION:Fairhaven United Reformed Church\, 22A Clifton Drive\, Lytham St Annes
CATEGORIES:Church Events
ATTACH;FMTTYPE=image/jpeg:https://fairhavenurc.org.uk/wp-content/uploads/2025/12/thumbnail_IMG_0758-2.jpg
END:VEVENT
BEGIN:VEVENT
DTSTART;TZID=Europe/London:20251221T104500
DTEND;TZID=Europe/London:20251221T120000
DTSTAMP:20260420T220453
CREATED:20251205T114630Z
LAST-MODIFIED:20251205T114630Z
UID:11759-1766313900-1766318400@fairhavenurc.org.uk
SUMMARY:Christmas Carol Service
DESCRIPTION:On the fourth Sunday of Advent we are holding our Carol Service. All welcome.
URL:https://fairhavenurc.org.uk/event/christmas-carol-service/
LOCATION:Fairhaven United Reformed Church\, 22A Clifton Drive\, Lytham St Annes
CATEGORIES:Church Events
ATTACH;FMTTYPE=image/jpeg:https://fairhavenurc.org.uk/wp-content/uploads/2025/12/thumbnail_IMG_0758-2.jpg
END:VEVENT
BEGIN:VEVENT
DTSTART;TZID=Europe/London:20251214T104500
DTEND;TZID=Europe/London:20251214T120000
DTSTAMP:20260420T220453
CREATED:20251128T113641Z
LAST-MODIFIED:20251128T113641Z
UID:11757-1765709100-1765713600@fairhavenurc.org.uk
SUMMARY:Christingle Service
DESCRIPTION:Third Sunday in Advent. This service will be led by Richard Golding. All welcome.
URL:https://fairhavenurc.org.uk/event/christingle-service/
LOCATION:Fairhaven United Reformed Church\, 22A Clifton Drive\, Lytham St Annes
CATEGORIES:Church Events
ATTACH;FMTTYPE=image/jpeg:https://fairhavenurc.org.uk/wp-content/uploads/2022/12/thumbnail_IMG-1456-1.jpg
END:VEVENT
BEGIN:VEVENT
DTSTART;TZID=Europe/London:20251211T140000
DTEND;TZID=Europe/London:20251211T160000
DTSTAMP:20260420T220453
CREATED:20251128T112830Z
LAST-MODIFIED:20251128T112830Z
UID:11753-1765461600-1765468800@fairhavenurc.org.uk
SUMMARY:Christmas Sing Along
DESCRIPTION:The last sing along of the year will feature seasonal music with Mr David Windle on the keyboard. \nFree event with refreshments served. All welcome.
URL:https://fairhavenurc.org.uk/event/christmas-sing-along/
LOCATION:Dawson Hall at the White Church
CATEGORIES:Church Events
ATTACH;FMTTYPE=image/jpeg:https://fairhavenurc.org.uk/wp-content/uploads/2025/05/thumbnail_IMG_7591.jpg
END:VEVENT
BEGIN:VEVENT
DTSTART;TZID=Europe/London:20251207T104500
DTEND;TZID=Europe/London:20251207T120000
DTSTAMP:20260420T220453
CREATED:20251128T113303Z
LAST-MODIFIED:20251128T113303Z
UID:11755-1765104300-1765108800@fairhavenurc.org.uk
SUMMARY:Sunday Morning Worship
DESCRIPTION:This service on the second Sunday in advent will be led by Ron Povey. It will include communion and gifts for the Salvation Army Christmas toy appeal can also be brought. \nAll welcome.
URL:https://fairhavenurc.org.uk/event/sunday-morning-worship-9/
LOCATION:Fairhaven United Reformed Church\, 22A Clifton Drive\, Lytham St Annes
CATEGORIES:Church Events
ATTACH;FMTTYPE=image/jpeg:https://fairhavenurc.org.uk/wp-content/uploads/2024/11/thumbnail_image_123650291.jpg
END:VEVENT
BEGIN:VEVENT
DTSTART;TZID=Europe/London:20251206T140000
DTEND;TZID=Europe/London:20251206T160000
DTSTAMP:20260420T220453
CREATED:20251128T112606Z
LAST-MODIFIED:20251128T112606Z
UID:11751-1765029600-1765036800@fairhavenurc.org.uk
SUMMARY:Christmas Social Afternoon
DESCRIPTION:An afternoon of fun with games\, a quiz\, raffle and refreshments as well as singing led by the choir. All welcome. Tickets from Jan H after church or Thursday coffee.
URL:https://fairhavenurc.org.uk/event/christmas-social-afternoon/
LOCATION:Dawson Hall at the White Church
CATEGORIES:Church Events
ATTACH;FMTTYPE=image/jpeg:https://fairhavenurc.org.uk/wp-content/uploads/2023/11/400776653_1771299033308453_8777253265114215718_n.jpg
END:VEVENT
BEGIN:VEVENT
DTSTART;TZID=Europe/London:20251203T140000
DTEND;TZID=Europe/London:20251203T160000
DTSTAMP:20260420T220453
CREATED:20251128T112227Z
LAST-MODIFIED:20251128T112227Z
UID:11748-1764770400-1764777600@fairhavenurc.org.uk
SUMMARY:Winter Fashion Show with Bella B
DESCRIPTION:Fashion Show by the popular Wood Street Boutique Bella B. \nTickets are £6 including refreshments and are available from Jan H or the shop. \nAll welcome.
URL:https://fairhavenurc.org.uk/event/winter-fashion-show-with-bella-b/
LOCATION:Dawson Hall at the White Church
CATEGORIES:Church Events
ATTACH;FMTTYPE=image/jpeg:https://fairhavenurc.org.uk/wp-content/uploads/2025/11/download-6.jpg
END:VEVENT
BEGIN:VEVENT
DTSTART;TZID=Europe/London:20251130T104500
DTEND;TZID=Europe/London:20251130T120000
DTSTAMP:20260420T220453
CREATED:20251107T115946Z
LAST-MODIFIED:20251107T115946Z
UID:11745-1764499500-1764504000@fairhavenurc.org.uk
SUMMARY:First Sunday In Advent Joint Service in St Annes URC
DESCRIPTION:We start our preparations for Christmas with a Joint Service with St Annes URC on the first Sunday of Advent. All welcome.
URL:https://fairhavenurc.org.uk/event/first-sunday-in-advent-joint-service-in-st-annes-urc/
LOCATION:St Annes United Reformed Church\, St. George's Road\, Lytham St Annes\, Lancashire\, FY8 2AE\, United Kingdom
CATEGORIES:Church Events
ATTACH;FMTTYPE=image/jpeg:https://fairhavenurc.org.uk/wp-content/uploads/2025/02/R.jpg
END:VEVENT
BEGIN:VEVENT
DTSTART;TZID=Europe/London:20251126T120000
DTEND;TZID=Europe/London:20251126T130000
DTSTAMP:20260420T220453
CREATED:20251031T153859Z
LAST-MODIFIED:20251031T153859Z
UID:11739-1764158400-1764162000@fairhavenurc.org.uk
SUMMARY:Memorial Service for Rev Janet Calderley
DESCRIPTION:All welcome at this service to remember and give thanks for the life of Rev Janet.
URL:https://fairhavenurc.org.uk/event/memorial-service-for-rev-janet-calderley/
LOCATION:elswick URC\, PR4 3ZJ
CATEGORIES:Church Events
ATTACH;FMTTYPE=image/webp:https://fairhavenurc.org.uk/wp-content/uploads/2025/10/OIP.webp
END:VEVENT
BEGIN:VEVENT
DTSTART;TZID=Europe/London:20251123T104500
DTEND;TZID=Europe/London:20251123T120000
DTSTAMP:20260420T220453
CREATED:20251031T152847Z
LAST-MODIFIED:20251031T152847Z
UID:11737-1763894700-1763899200@fairhavenurc.org.uk
SUMMARY:Sunday Morning Worship
DESCRIPTION:This service will be led by Pastor David Grimshaw. All welcome
URL:https://fairhavenurc.org.uk/event/sunday-morning-worship-8/
LOCATION:Fairhaven United Reformed Church\, 22A Clifton Drive\, Lytham St Annes
CATEGORIES:Church Events
ATTACH;FMTTYPE=image/jpeg:https://fairhavenurc.org.uk/wp-content/uploads/2025/04/thumbnail_IMG_6561-1.jpg
END:VEVENT
BEGIN:VEVENT
DTSTART;TZID=Europe/London:20251116T104500
DTEND;TZID=Europe/London:20251116T120000
DTSTAMP:20260420T220453
CREATED:20251031T151848Z
LAST-MODIFIED:20251031T151848Z
UID:11735-1763289900-1763294400@fairhavenurc.org.uk
SUMMARY:Sunday Morning Worship
DESCRIPTION:This service will be led by Stuart Gay. All welcome.
URL:https://fairhavenurc.org.uk/event/sunday-morning-worship-7/
CATEGORIES:Church Events
ATTACH;FMTTYPE=image/jpeg:https://fairhavenurc.org.uk/wp-content/uploads/2025/04/thumbnail_IMG_6561-1.jpg
END:VEVENT
BEGIN:VEVENT
DTSTART;TZID=Europe/London:20251113T140000
DTEND;TZID=Europe/London:20251113T160000
DTSTAMP:20260420T220453
CREATED:20251012T110314Z
LAST-MODIFIED:20251012T110314Z
UID:11724-1763042400-1763049600@fairhavenurc.org.uk
SUMMARY:Sing a Long with David Windle
DESCRIPTION:Please come and join us for an afternoon of popular music played by Mr David Windle on the keyboard. Free event with refreshments available.
URL:https://fairhavenurc.org.uk/event/sing-a-long-with-david-windle/
LOCATION:Dawson Hall at the White Church
CATEGORIES:Church Events
ATTACH;FMTTYPE=image/jpeg:https://fairhavenurc.org.uk/wp-content/uploads/2025/05/thumbnail_IMG_7591.jpg
END:VEVENT
BEGIN:VEVENT
DTSTART;TZID=Europe/London:20251109T104500
DTEND;TZID=Europe/London:20251109T120000
DTSTAMP:20260420T220453
CREATED:20251031T151643Z
LAST-MODIFIED:20251031T151643Z
UID:11732-1762685100-1762689600@fairhavenurc.org.uk
SUMMARY:Remembrance Sunday Morning Worship
DESCRIPTION:This service of remembrance and reflection will be led by Rev Jim Williams. \nAll welcome.
URL:https://fairhavenurc.org.uk/event/remembrance-sunday-morning-worship/
LOCATION:Fairhaven United Reformed Church\, 22A Clifton Drive\, Lytham St Annes
CATEGORIES:Church Events
ATTACH;FMTTYPE=image/jpeg:https://fairhavenurc.org.uk/wp-content/uploads/2025/10/PHOTO-2023-11-02-11-32-08-1.jpg
END:VEVENT
BEGIN:VEVENT
DTSTART;TZID=Europe/London:20251107T190000
DTEND;TZID=Europe/London:20251107T213000
DTSTAMP:20260420T220453
CREATED:20251012T110014Z
LAST-MODIFIED:20251012T110014Z
UID:11722-1762542000-1762551000@fairhavenurc.org.uk
SUMMARY:Concert of Remembrance with Blackpool Brass Band
DESCRIPTION:All welcome at this special Remembrance themed concert given by Blackpool Brass Band in the church. Tickets £10 available on the door or from Jan at the church or at coffee morning.
URL:https://fairhavenurc.org.uk/event/concert-of-remembrance-with-blackpool-brass-band/
CATEGORIES:Church Events
END:VEVENT
END:VCALENDAR